BEGIN:VCALENDAR
METHOD:PUBLISH
VERSION:2.0
CALSCALE:GREGORIAN
PRODID:-//NONSGML Sandhills Development\, LLC//NONSGML Sugar Calendar Fe
 eds v3.8.2//EN
X-WR-CALNAME:The adventures of a driving instructor - POSTPONED
X-WR-CALDESC:Boston &amp\; County Club
X-WR-TIMEZONE:Europe/London
BEGIN:VTIMEZONE
TZID:Europe/London
BEGIN:STANDARD
TZOFFSETFROM:+0100
TZOFFSETTO:+0000
DTSTART:20241027T010000
TZNAME:GMT
END:STANDARD
END:VTIMEZONE
BEGIN:VTIMEZONE
TZID:Europe/London
BEGIN:STANDARD
TZOFFSETFROM:+0100
TZOFFSETTO:+0000
DTSTART:20241027T010000
TZNAME:GMT
END:STANDARD
END:VTIMEZONE
BEGIN:VEVENT
SUMMARY:The adventures of a driving instructor - POSTPONED
DESCRIPTION:Please note that this event has been postponed and a new dat
 e will be advised in the new year. Our apologies for any inconvenience c
 aused!
URL;VALUE=URI:https://www.bostoncountyclub.co.uk/events/the-adventures-o
 f-a-driving-instructor-postponed/
UID:urn:uuid:7081342a-066f-4976-9323-3fa9eaa26f5a
STATUS:CONFIRMED
ORGANIZER:
DTSTAMP:20260422T164215Z
DTSTART;TZID=Europe/London:20241116T190000
DTEND;TZID=Europe/London:20241116T210000
END:VEVENT
END:VCALENDAR