BEGIN:VCALENDAR
METHOD:PUBLISH
VERSION:2.0
CALSCALE:GREGORIAN
PRODID:-//NONSGML Sandhills Development\, LLC//NONSGML Sugar Calendar Fe
 eds v3.8.2//EN
X-WR-CALNAME:BCC Race Night - Everyone Welcome
X-WR-CALDESC:Boston &amp\; County Club
X-WR-TIMEZONE:Europe/London
BEGIN:VTIMEZONE
TZID:Europe/London
BEGIN:DAYLIGHT
TZOFFSETFROM:+0100
TZOFFSETTO:+0100
DTSTART:20250425T070000
TZNAME:BST
END:DAYLIGHT
END:VTIMEZONE
BEGIN:VTIMEZONE
TZID:Europe/London
BEGIN:DAYLIGHT
TZOFFSETFROM:+0100
TZOFFSETTO:+0100
DTSTART:20250425T070000
TZNAME:BST
END:DAYLIGHT
END:VTIMEZONE
BEGIN:VEVENT
SUMMARY:BCC Race Night - Everyone Welcome
DESCRIPTION:Saddle up for an evening of fun\, laughter\, and a little â
 flutterâ!\nJoin us for a night at the races without muddy boots or lo
 ng odds. Cheer on your horse\, shout at the big screen\, and (hopefully!
 ) back a winner. Tickets can be purchased online and entry is only ÂŁ5 p
 er person!\n\nImportant Rules of the Track:\n\n 	\nBribing race official
 s is not only allowedâŠ itâs encouraged\n\n 	\nIf your horse loses\, 
 blame the jockey (or the bar staff)\n\n 	\nAnyone trying to sneak their 
 winnings out without âinvestingâ them back at the bar will be strong
 ly discouragedâŠ letâs just say the car park can be a dangerous place
 ! đ\n\n 	\nOver-the-top hat wearing is optional\, but cheering wildly
  is compulsory\n\n\nWhether youâre a seasoned punter or you pick your 
 horse by name\, itâs all about fun\, friendly competition\, and plenty
  of drinks along the way. So grab your friends\, buy your tickets\, and 
 letâs make it a night to remember.\n\nThis event is kindly sponsored b
 y Mercedes-Benz of Boston\n\nMay the best horse win â and the best pun
 ter buy the next round! đ»
URL;VALUE=URI:https://www.bostoncountyclub.co.uk/events/race-night-1025/
UID:urn:uuid:b4e602d5-6d80-4aa7-ab73-3d4ad70cc7c7
STATUS:CONFIRMED
ORGANIZER:
DTSTAMP:20260422T151505Z
DTSTART;TZID=Europe/London:20251024T190000
DTEND;TZID=Europe/London:20251024T230000
LOCATION:The Boston &amp\; County Club\, Park Gate\, Boston PE21 6RL
END:VEVENT
END:VCALENDAR