BEGIN:VCALENDAR
METHOD:PUBLISH
VERSION:2.0
CALSCALE:GREGORIAN
PRODID:-//NONSGML Sandhills Development\, LLC//NONSGML Sugar Calendar Fe
 eds v3.8.2//EN
X-WR-CALNAME:An Evening with Ken Doherty & Dennis Taylor
X-WR-CALDESC:Boston &amp\; County Club
X-WR-TIMEZONE:Europe/London
BEGIN:VTIMEZONE
TZID:Europe/London
BEGIN:DAYLIGHT
TZOFFSETFROM:+0000
TZOFFSETTO:+0100
DTSTART:20240331T010000
TZNAME:BST
END:DAYLIGHT
END:VTIMEZONE
BEGIN:VTIMEZONE
TZID:Europe/London
BEGIN:DAYLIGHT
TZOFFSETFROM:+0000
TZOFFSETTO:+0100
DTSTART:20240331T010000
TZNAME:BST
END:DAYLIGHT
END:VTIMEZONE
BEGIN:VEVENT
SUMMARY:An Evening with Ken Doherty & Dennis Taylor
DESCRIPTION:Join us at the County Club for an unforgettable evening with
  two of snooker’s greatest treasures and former World Champions! Ken D
 oherty makes his second appearance at the club\, and this time is accomp
 anied by the one and only Dennis Taylor.\n\nTickets are £35 and can be 
 booked by contacting Richard on 07776 330016. Please see poster for full
  details. This is not to be missed!\n\nA big thank you to our event spon
 sors: Johnson Motors\, Graham Gill Carpets\, Newton Fallowell\, Chandler
 s\, and Boston Snooker Centre.
URL;VALUE=URI:https://www.bostoncountyclub.co.uk/events/an-evening-with-
 ken-doherty-dennis-taylor/
UID:urn:uuid:f4ef5b79-b91c-4858-af0e-0afa39785658
STATUS:CONFIRMED
ORGANIZER:
DTSTAMP:20260422T152451Z
DTSTART;TZID=Europe/London:20240522T190000
DTEND;TZID=Europe/London:20240522T230000
END:VEVENT
END:VCALENDAR